BEGIN:VCALENDAR
VERSION:2.0
PRODID:-//St. Mary Student Parish - Ann Arbor, Michigan - ECPv6.15.20//NONSGML v1.0//EN
CALSCALE:GREGORIAN
METHOD:PUBLISH
X-WR-CALNAME:St. Mary Student Parish - Ann Arbor, Michigan
X-ORIGINAL-URL:https://michigancatholics.org
X-WR-CALDESC:Events for St. Mary Student Parish - Ann Arbor, Michigan
REFRESH-INTERVAL;VALUE=DURATION:PT1H
X-Robots-Tag:noindex
X-PUBLISHED-TTL:PT1H
BEGIN:VTIMEZONE
TZID:America/Detroit
BEGIN:DAYLIGHT
TZOFFSETFROM:-0500
TZOFFSETTO:-0400
TZNAME:EDT
DTSTART:20240310T070000
END:DAYLIGHT
BEGIN:STANDARD
TZOFFSETFROM:-0400
TZOFFSETTO:-0500
TZNAME:EST
DTSTART:20241103T060000
END:STANDARD
BEGIN:DAYLIGHT
TZOFFSETFROM:-0500
TZOFFSETTO:-0400
TZNAME:EDT
DTSTART:20250309T070000
END:DAYLIGHT
BEGIN:STANDARD
TZOFFSETFROM:-0400
TZOFFSETTO:-0500
TZNAME:EST
DTSTART:20251102T060000
END:STANDARD
BEGIN:DAYLIGHT
TZOFFSETFROM:-0500
TZOFFSETTO:-0400
TZNAME:EDT
DTSTART:20260308T070000
END:DAYLIGHT
BEGIN:STANDARD
TZOFFSETFROM:-0400
TZOFFSETTO:-0500
TZNAME:EST
DTSTART:20261101T060000
END:STANDARD
BEGIN:DAYLIGHT
TZOFFSETFROM:-0500
TZOFFSETTO:-0400
TZNAME:EDT
DTSTART:20270314T070000
END:DAYLIGHT
BEGIN:STANDARD
TZOFFSETFROM:-0400
TZOFFSETTO:-0500
TZNAME:EST
DTSTART:20271107T060000
END:STANDARD
END:VTIMEZONE
BEGIN:VEVENT
DTSTART;TZID=America/Detroit:20260420T183000
DTEND;TZID=America/Detroit:20260420T210000
DTSTAMP:20260424T083242
CREATED:20231215T175531Z
LAST-MODIFIED:20260409T193312Z
UID:39270-1776709800-1776718800@michigancatholics.org
SUMMARY:Grad/YP Mass & Dinner
DESCRIPTION:All graduate Students and young professionals are invited to join us for mass followed by social time with a meal.
URL:https://michigancatholics.org/event/grad-yp-mass-dinner-6/
CATEGORIES:Grad Students & Young Professionals,Homepage
END:VEVENT
BEGIN:VEVENT
DTSTART;TZID=America/Detroit:20260418T090000
DTEND;TZID=America/Detroit:20260418T140000
DTSTAMP:20260424T083242
CREATED:20240223T211354Z
LAST-MODIFIED:20260408T192846Z
UID:39537-1776502800-1776520800@michigancatholics.org
SUMMARY:Be Bold: Worshop for teenagers (in english and spanish)
DESCRIPTION:Catholic youth group for teenagers ages 13 to 17. Contact Rosa Luz Postigo rpostigo@smspnewman.org
URL:https://michigancatholics.org/event/be-bold-3/
CATEGORIES:Español,Homepage
END:VEVENT
BEGIN:VEVENT
DTSTART;TZID=America/Detroit:20260418T090000
DTEND;TZID=America/Detroit:20260418T120000
DTSTAMP:20260424T083242
CREATED:20260324T194657Z
LAST-MODIFIED:20260324T194659Z
UID:42971-1776502800-1776513600@michigancatholics.org
SUMMARY:April Eco- Workday
DESCRIPTION:@ Matthaei Botanical gardens
URL:https://michigancatholics.org/event/april-eco-workday/
CATEGORIES:Español,Grad Students & Young Professionals,Homepage,Student
END:VEVENT
BEGIN:VEVENT
DTSTART;TZID=America/Detroit:20260417T124500
DTEND;TZID=America/Detroit:20260417T140000
DTSTAMP:20260424T083242
CREATED:20250925T193647Z
LAST-MODIFIED:20260409T193143Z
UID:41733-1776429900-1776434400@michigancatholics.org
SUMMARY:Women's and Men's Discernment Groups
DESCRIPTION:How God is calling you?
URL:https://michigancatholics.org/event/womens-and-mens-discernement-groups/
CATEGORIES:Grad Students & Young Professionals,Homepage,Student
END:VEVENT
BEGIN:VEVENT
DTSTART;TZID=America/Detroit:20260417T090000
DTEND;TZID=America/Detroit:20260417T150000
DTSTAMP:20260424T083242
CREATED:20241009T191939Z
LAST-MODIFIED:20260324T194243Z
UID:40485-1776416400-1776438000@michigancatholics.org
SUMMARY:Blood Drive
DESCRIPTION:For an appointment\, log onto RedCrossBlood.org or call 1-800-RED CROSS (1-800-733-2767)
URL:https://michigancatholics.org/event/blood-drive-4/
CATEGORIES:Grad Students & Young Professionals,Homepage,Student
END:VEVENT
BEGIN:VEVENT
DTSTART;TZID=America/Detroit:20260410T190000
DTEND;TZID=America/Detroit:20260410T200000
DTSTAMP:20260424T083242
CREATED:20250320T144805Z
LAST-MODIFIED:20260324T194400Z
UID:41191-1775847600-1775851200@michigancatholics.org
SUMMARY:Transcendence Literary Magazine Launch Party
DESCRIPTION:Join us for an evening of celebration\, live readings\, hors d’oeuvres\, and more! Free copies of the magazine will be available.
URL:https://michigancatholics.org/event/transcendence-literary-magazine-launch-party-2/
CATEGORIES:Grad Students & Young Professionals,Homepage,Student
END:VEVENT
BEGIN:VEVENT
DTSTART;TZID=America/Detroit:20260406T183000
DTEND;TZID=America/Detroit:20260406T210000
DTSTAMP:20260424T083242
CREATED:20240215T141256Z
LAST-MODIFIED:20260324T194457Z
UID:39500-1775500200-1775509200@michigancatholics.org
SUMMARY:Grad/ YP Spiritual Directions
DESCRIPTION:Feel free to email the Lead Team (smsp.grads.lead@umich.edu) with any questions you may have about this event.
URL:https://michigancatholics.org/event/grad-yp-spiritual-directions/
CATEGORIES:Grad Students & Young Professionals,Homepage
END:VEVENT
BEGIN:VEVENT
DTSTART;TZID=America/Detroit:20260403T143000
DTEND;TZID=America/Detroit:20260403T170000
DTSTAMP:20260424T083242
CREATED:20260313T181946Z
LAST-MODIFIED:20260313T181949Z
UID:42938-1775226600-1775235600@michigancatholics.org
SUMMARY:Lenten Procession / Via Crucis
DESCRIPTION:Meet at St. Thomas\, walk with our Lord through Ann Arbor and the university campus\, and finish atSt. Mary.
URL:https://michigancatholics.org/event/lenten-procession-via-crucis/
CATEGORIES:Español,Grad Students & Young Professionals,Homepage
END:VEVENT
BEGIN:VEVENT
DTSTART;TZID=America/Detroit:20260327T190000
DTEND;TZID=America/Detroit:20260327T203000
DTSTAMP:20260424T083242
CREATED:20250410T142909Z
LAST-MODIFIED:20260219T165112Z
UID:41233-1774638000-1774643400@michigancatholics.org
SUMMARY:Migrant Stations of the Cross- Via Crucis del Migrante
DESCRIPTION:Bilingual Stations of the Cross.
URL:https://michigancatholics.org/event/migrant-stations-of-the-cross-via-crucis-del-migrante/
CATEGORIES:Español,Grad Students & Young Professionals,Homepage,Student
END:VEVENT
BEGIN:VEVENT
DTSTART;TZID=America/Detroit:20260325T190000
DTEND;TZID=America/Detroit:20260325T203000
DTSTAMP:20260424T083242
CREATED:20260219T165000Z
LAST-MODIFIED:20260219T165002Z
UID:42868-1774465200-1774470600@michigancatholics.org
SUMMARY:Lenten Penance Service
DESCRIPTION:
URL:https://michigancatholics.org/event/lenten-penance-service-2/
CATEGORIES:Español,Grad Students & Young Professionals,Homepage,Student
END:VEVENT
BEGIN:VEVENT
DTSTART;TZID=America/Detroit:20260322T100000
DTEND;TZID=America/Detroit:20260322T120000
DTSTAMP:20260424T083242
CREATED:20260306T184930Z
LAST-MODIFIED:20260306T184933Z
UID:42914-1774173600-1774180800@michigancatholics.org
SUMMARY:Lenten Event by the Midwest Jesuits
DESCRIPTION:Join the Midwest Jesuits and the St Mary Student Parish Community for a mass and short Lenten Reflection. Coffee and Donuts following Mass with a special Lenten Reflection from Mr Edwin Wesonga\, SJ
URL:https://michigancatholics.org/event/lenten-event-by-the-midwest-jesuits/
CATEGORIES:Grad Students & Young Professionals,Homepage,Student
END:VEVENT
BEGIN:VEVENT
DTSTART;TZID=America/Detroit:20260320T170000
DTEND;TZID=America/Detroit:20260320T180000
DTSTAMP:20260424T083242
CREATED:20260313T181658Z
LAST-MODIFIED:20260313T181702Z
UID:42935-1774026000-1774029600@michigancatholics.org
SUMMARY:Stations of the Cross led by the Undergrad Peer Ministry Interns
DESCRIPTION:Stations of the Cross continue at 5 p.m. this Friday\, led by our undergrad PeerMinistry Interns\, who will present “Stations through the Lens of Mary.” All are welcome!
URL:https://michigancatholics.org/event/stations-of-the-cross-led-by-the-undergrad-peer-ministry-interns/
CATEGORIES:Grad Students & Young Professionals,Homepage,Student
END:VEVENT
BEGIN:VEVENT
DTSTART;TZID=America/Detroit:20260313T190000
DTEND;TZID=America/Detroit:20260313T200000
DTSTAMP:20260424T083242
CREATED:20250228T194806Z
LAST-MODIFIED:20260219T165820Z
UID:41123-1773428400-1773432000@michigancatholics.org
SUMMARY:Stations of the Cross through the Lens of Racism
DESCRIPTION:
URL:https://michigancatholics.org/event/stations-of-the-cross-through-the-lens-of-racism-2/
CATEGORIES:Español,Grad Students & Young Professionals,Homepage,Student
END:VEVENT
BEGIN:VEVENT
DTSTART;TZID=America/Detroit:20260306T180000
DTEND;TZID=America/Detroit:20260306T200000
DTSTAMP:20260424T083242
CREATED:20260219T164538Z
LAST-MODIFIED:20260219T164540Z
UID:42864-1772820000-1772827200@michigancatholics.org
SUMMARY:Grad/YP Stations of the Cross
DESCRIPTION:Please Join us for Stations of the Cross led by the Grad/YP group.
URL:https://michigancatholics.org/event/grad-yp-stations-of-the-cross-2/
CATEGORIES:Grad Students & Young Professionals,Homepage,Student
END:VEVENT
BEGIN:VEVENT
DTSTART;TZID=America/Detroit:20260226T193000
DTEND;TZID=America/Detroit:20260226T220000
DTSTAMP:20260424T083242
CREATED:20260219T164731Z
LAST-MODIFIED:20260219T164733Z
UID:42866-1772134200-1772143200@michigancatholics.org
SUMMARY:Board Game Night
DESCRIPTION:All undergrads are welcome to our Board Game Night!
URL:https://michigancatholics.org/event/board-game-night/
CATEGORIES:Student
END:VEVENT
BEGIN:VEVENT
DTSTART;TZID=America/Detroit:20260222T120000
DTEND;TZID=America/Detroit:20260222T143000
DTSTAMP:20260424T083242
CREATED:20260203T170822Z
LAST-MODIFIED:20260203T170827Z
UID:42803-1771761600-1771770600@michigancatholics.org
SUMMARY:Lunar New Year Mass and Reception
DESCRIPTION:Join us for a special\, multilingual Mass in celebration of Lunar New Year followed by a dessert reception in the Newman Lounge.
URL:https://michigancatholics.org/event/lunar-new-year-mass-and-reception/
CATEGORIES:Homepage
END:VEVENT
BEGIN:VEVENT
DTSTART;TZID=America/Detroit:20260220T190000
DTEND;TZID=America/Detroit:20260220T200000
DTSTAMP:20260424T083242
CREATED:20260212T212432Z
LAST-MODIFIED:20260212T212438Z
UID:42850-1771614000-1771617600@michigancatholics.org
SUMMARY:Stations of the Cross (Via Crucis bilingue) led by Cristeros
DESCRIPTION:Kick off Lent with a bilingual Stations of the Cross hosted by Cristeros.  \n\n\n\nEmpieza la Cuaresma con el Via Crucis Bilingue. Todos estan invitados!
URL:https://michigancatholics.org/event/stations-of-the-cross-via-crucis-bilingue-led-by-cristeros/
CATEGORIES:Español,Grad Students & Young Professionals,Homepage,Student
END:VEVENT
BEGIN:VEVENT
DTSTART;TZID=America/Detroit:20260215T110000
DTEND;TZID=America/Detroit:20260215T140000
DTSTAMP:20260424T083242
CREATED:20260107T200217Z
LAST-MODIFIED:20260107T200225Z
UID:42735-1771153200-1771164000@michigancatholics.org
SUMMARY:Intercultural Festival
DESCRIPTION:Enjoy samples of ethnic foods and a variety of Catholic cultural displays!
URL:https://michigancatholics.org/event/intercultural-festival/
CATEGORIES:Español,Grad Students & Young Professionals,Homepage,Student
END:VEVENT
BEGIN:VEVENT
DTSTART;TZID=America/Detroit:20260213T190000
DTEND;TZID=America/Detroit:20260213T210000
DTSTAMP:20260424T083242
CREATED:20260203T171726Z
LAST-MODIFIED:20260203T171729Z
UID:42806-1771009200-1771016400@michigancatholics.org
SUMMARY:Bowling Night
DESCRIPTION:Station 300 in Saline.  \n\n\n\nCost: $18 \n\n\n\nSign up : ST. MARY’S BOWLING
URL:https://michigancatholics.org/event/bowling-night/
CATEGORIES:Student
END:VEVENT
BEGIN:VEVENT
DTSTART;TZID=America/Detroit:20260208T130000
DTEND;TZID=America/Detroit:20260208T140000
DTSTAMP:20260424T083242
CREATED:20260116T163117Z
LAST-MODIFIED:20260130T163828Z
UID:42767-1770555600-1770559200@michigancatholics.org
SUMMARY:International Samaritan Meeting
DESCRIPTION:Meeting for the Service Immersion Trip to Honduras. All are welcome!
URL:https://michigancatholics.org/event/international-samaritan-meeting/
CATEGORIES:Homepage
END:VEVENT
BEGIN:VEVENT
DTSTART;TZID=America/Detroit:20260207T130000
DTEND;TZID=America/Detroit:20260207T140000
DTSTAMP:20260424T083242
CREATED:20260130T164027Z
LAST-MODIFIED:20260130T164106Z
UID:42800-1770469200-1770472800@michigancatholics.org
SUMMARY:Winter Nature Walk
DESCRIPTION:Join the Care for Creation team for a Winter nature walk @ Matthaei Botanical Gardens and Nature Trails
URL:https://michigancatholics.org/event/winter-nature-walk/
CATEGORIES:Homepage
END:VEVENT
BEGIN:VEVENT
DTSTART;TZID=America/Detroit:20260201T120000
DTEND;TZID=America/Detroit:20260201T140000
DTSTAMP:20260424T083242
CREATED:20240131T203358Z
LAST-MODIFIED:20260107T193018Z
UID:39422-1769947200-1769954400@michigancatholics.org
SUMMARY:Black and Blessed Mass and Reception
DESCRIPTION:Join us to celebrate Black History Month with a special mass featuring the Gospel Choir from Saint Charles Lwanga Parish. Mass will be followed by a potluck lunch- bring a dish to share!
URL:https://michigancatholics.org/event/black-and-blessed-mass-and-reception/
CATEGORIES:Homepage
END:VEVENT
BEGIN:VEVENT
DTSTART;TZID=America/Detroit:20260130T190000
DTEND;TZID=America/Detroit:20260130T210000
DTSTAMP:20260424T083242
CREATED:20260116T162726Z
LAST-MODIFIED:20260116T162732Z
UID:42765-1769799600-1769806800@michigancatholics.org
SUMMARY:Michigan Catholics Talent Show (undergrads)
DESCRIPTION:Talent Show for Undergrads. Any and every talent welcome!
URL:https://michigancatholics.org/event/michigan-catholics-talent-show-undergrads/
CATEGORIES:Homepage,Student
END:VEVENT
BEGIN:VEVENT
DTSTART;TZID=America/Detroit:20260118T170000
DTEND;TZID=America/Detroit:20260118T193000
DTSTAMP:20260424T083242
CREATED:20231222T152909Z
LAST-MODIFIED:20251211T192016Z
UID:39320-1768755600-1768764600@michigancatholics.org
SUMMARY:Santo Nino de Cebu Celebration
DESCRIPTION:Join the Filipino American community at St Mary for our Sinulog celebration starting with Mass at 5 PM followed by a potluck dinner.
URL:https://michigancatholics.org/event/santo-nino-de-cebu-celebration/
CATEGORIES:Homepage
END:VEVENT
BEGIN:VEVENT
DTSTART;TZID=America/Detroit:20260109T190000
DTEND;TZID=America/Detroit:20260109T220000
DTSTAMP:20260424T083242
CREATED:20251211T192728Z
LAST-MODIFIED:20251211T192730Z
UID:42680-1767985200-1767996000@michigancatholics.org
SUMMARY:Undergrad Trivia Night
DESCRIPTION:
URL:https://michigancatholics.org/event/undergrad-trivia-night/
CATEGORIES:Homepage,Student
END:VEVENT
BEGIN:VEVENT
DTSTART;TZID=America/Detroit:20260108T101500
DTEND;TZID=America/Detroit:20260108T123000
DTSTAMP:20260424T083242
CREATED:20240312T174712Z
LAST-MODIFIED:20251211T192204Z
UID:39586-1767867300-1767875400@michigancatholics.org
SUMMARY:Women of the Heart
DESCRIPTION:Women of the Heart is a gathering of women seeking to enrich their spirituality through a short presentation\, reflection\, discussion\, prayer\, while building relationships with one another. All women of the parish are invited to the monthly gatherings of Women of The Heart. Please feel free to attend as often as your schedule allows. No registration is needed.
URL:https://michigancatholics.org/event/women-of-the-heart-3/
CATEGORIES:Homepage
END:VEVENT
BEGIN:VEVENT
DTSTART;TZID=America/Detroit:20251221T170000
DTEND;TZID=America/Detroit:20251221T200000
DTSTAMP:20260424T083242
CREATED:20241209T185100Z
LAST-MODIFIED:20251204T200306Z
UID:40799-1766336400-1766347200@michigancatholics.org
SUMMARY:Simbang Gabi
DESCRIPTION:Join us for this Filipino Advent tradition to prepare our hearts for the birth of Christ
URL:https://michigancatholics.org/event/simbang-gabi-4/
CATEGORIES:Homepage
END:VEVENT
BEGIN:VEVENT
DTSTART;TZID=America/Detroit:20251212T190000
DTEND;TZID=America/Detroit:20251212T220000
DTSTAMP:20260424T083242
CREATED:20241119T155224Z
LAST-MODIFIED:20251212T142707Z
UID:40755-1765566000-1765576800@michigancatholics.org
SUMMARY:Our Lady of Guadalupe
DESCRIPTION:Bilingual Mass followed by a potluck dinner (bring a dish to share) \n\n\n\nHere is the link to watch the mass online : https://youtube.com/live/8szNjQ1DjuM?feature=share
URL:https://michigancatholics.org/event/our-lady-of-guadalupe-2/
CATEGORIES:Español,Grad Students & Young Professionals,Homepage,Student
END:VEVENT
BEGIN:VEVENT
DTSTART;TZID=America/Detroit:20251210T183000
DTEND;TZID=America/Detroit:20251210T203000
DTSTAMP:20260424T083242
CREATED:20251121T174136Z
LAST-MODIFIED:20251121T174150Z
UID:42630-1765391400-1765398600@michigancatholics.org
SUMMARY:Advent Prayer and Penance Service
DESCRIPTION:The evening will begin with an Advent Prayer Service at 6:30 p.m. with music and an Ignatian reflection.Individual reconciliation will follow at 7 p.m.Theme: Waiting with Mary in Joyful Hope
URL:https://michigancatholics.org/event/advent-prayer-and-penance-service-2/
CATEGORIES:Grad Students & Young Professionals,Homepage,Student
END:VEVENT
BEGIN:VEVENT
DTSTART;TZID=America/Detroit:20251208T180000
DTEND;TZID=America/Detroit:20251208T200000
DTSTAMP:20260424T083242
CREATED:20251106T145256Z
LAST-MODIFIED:20251106T145723Z
UID:42568-1765216800-1765224000@michigancatholics.org
SUMMARY:Final centennial Celebration
DESCRIPTION:Join us after Mass for a festive close to our wonderful Centennial Year—a joyful evening of fellowship\, refreshments\, and remembrance. Enjoy strolling beverages\, appetizers\, and desserts while exploring historical displays that celebrate 100 years of faith\, community\, and service.Come toast our shared journey and the generations who have shaped St. Mary’s story. All are welcome! \n\n\n\nPlease RSVP to help us plan appropriately for food and festivities by visiting Final Centennial Celebration – RSVP
URL:https://michigancatholics.org/event/final-centennial-celebration/
CATEGORIES:Español,Grad Students & Young Professionals,Homepage,Student
END:VEVENT
END:VCALENDAR