BEGIN:VCALENDAR
VERSION:2.0
PRODID:-//St. Mary Student Parish - Ann Arbor, Michigan - ECPv6.15.20//NONSGML v1.0//EN
CALSCALE:GREGORIAN
METHOD:PUBLISH
X-ORIGINAL-URL:https://michigancatholics.org
X-WR-CALDESC:Events for St. Mary Student Parish - Ann Arbor, Michigan
REFRESH-INTERVAL;VALUE=DURATION:PT1H
X-Robots-Tag:noindex
X-PUBLISHED-TTL:PT1H
BEGIN:VTIMEZONE
TZID:America/Detroit
BEGIN:DAYLIGHT
TZOFFSETFROM:-0500
TZOFFSETTO:-0400
TZNAME:EDT
DTSTART:20220313T070000
END:DAYLIGHT
BEGIN:STANDARD
TZOFFSETFROM:-0400
TZOFFSETTO:-0500
TZNAME:EST
DTSTART:20221106T060000
END:STANDARD
BEGIN:DAYLIGHT
TZOFFSETFROM:-0500
TZOFFSETTO:-0400
TZNAME:EDT
DTSTART:20230312T070000
END:DAYLIGHT
BEGIN:STANDARD
TZOFFSETFROM:-0400
TZOFFSETTO:-0500
TZNAME:EST
DTSTART:20231105T060000
END:STANDARD
BEGIN:DAYLIGHT
TZOFFSETFROM:-0500
TZOFFSETTO:-0400
TZNAME:EDT
DTSTART:20240310T070000
END:DAYLIGHT
BEGIN:STANDARD
TZOFFSETFROM:-0400
TZOFFSETTO:-0500
TZNAME:EST
DTSTART:20241103T060000
END:STANDARD
BEGIN:DAYLIGHT
TZOFFSETFROM:-0500
TZOFFSETTO:-0400
TZNAME:EDT
DTSTART:20250309T070000
END:DAYLIGHT
BEGIN:STANDARD
TZOFFSETFROM:-0400
TZOFFSETTO:-0500
TZNAME:EST
DTSTART:20251102T060000
END:STANDARD
END:VTIMEZONE
BEGIN:VEVENT
DTSTART;TZID=America/Detroit:20240807T190000
DTEND;TZID=America/Detroit:20240807T210000
DTSTAMP:20260424T225603
CREATED:20240801T185342Z
LAST-MODIFIED:20240801T185344Z
UID:40128-1723057200-1723064400@michigancatholics.org
SUMMARY:Bonfire
DESCRIPTION:Bonfire after Adoration for Young Adults
URL:https://michigancatholics.org/event/bonfire/
CATEGORIES:Grad Students & Young Professionals,Homepage,Student
END:VEVENT
BEGIN:VEVENT
DTSTART;TZID=America/Detroit:20240623T180000
DTEND;TZID=America/Detroit:20240623T193000
DTSTAMP:20260424T225603
CREATED:20240603T170651Z
LAST-MODIFIED:20240603T170653Z
UID:39927-1719165600-1719171000@michigancatholics.org
SUMMARY:Welcome Cookout for incoming and current students
DESCRIPTION:
URL:https://michigancatholics.org/event/welcome-cookout-for-incoming-and-current-students/
CATEGORIES:Grad Students & Young Professionals,Homepage,Student
END:VEVENT
BEGIN:VEVENT
DTSTART;TZID=America/Detroit:20240602T181500
DTEND;TZID=America/Detroit:20240602T193000
DTSTAMP:20260424T225603
CREATED:20240514T165923Z
LAST-MODIFIED:20240514T165925Z
UID:39828-1717352100-1717356600@michigancatholics.org
SUMMARY:Corpus Christi Eucharistic Procession
DESCRIPTION:Walk and pray with Our Eucharistic Lord from St. Mary through the UM Campus and downtown Ann Arbor to St. Thomas
URL:https://michigancatholics.org/event/corpus-christi-eucharistic-procession/
CATEGORIES:Grad Students & Young Professionals,Homepage,Student
END:VEVENT
BEGIN:VEVENT
DTSTART;TZID=America/Detroit:20240426T190000
DTEND;TZID=America/Detroit:20240426T210000
DTSTAMP:20260424T225603
CREATED:20240410T151041Z
LAST-MODIFIED:20240410T151042Z
UID:39691-1714158000-1714165200@michigancatholics.org
SUMMARY:Transcendence Literary Magazine Launch Party
DESCRIPTION:A launch party and open mic event to celebrate Transcendence
URL:https://michigancatholics.org/event/transcendence-literary-magazine-launch-party/
CATEGORIES:Grad Students & Young Professionals,Homepage,Student
END:VEVENT
BEGIN:VEVENT
DTSTART;TZID=America/Detroit:20240419T190000
DTEND;TZID=America/Detroit:20240419T200000
DTSTAMP:20260424T225603
CREATED:20240418T141644Z
LAST-MODIFIED:20240418T141646Z
UID:39716-1713553200-1713556800@michigancatholics.org
SUMMARY:WORSHIP NIGHT
DESCRIPTION:Live praise and worship music during Adoration\, followed by fellowship in the lounge!
URL:https://michigancatholics.org/event/worship-night/
CATEGORIES:Grad Students & Young Professionals,Homepage,Student
END:VEVENT
BEGIN:VEVENT
DTSTART;TZID=America/Detroit:20240415T183000
DTEND;TZID=America/Detroit:20240415T200000
DTSTAMP:20260424T225603
CREATED:20240410T150548Z
LAST-MODIFIED:20240410T150550Z
UID:39689-1713205800-1713211200@michigancatholics.org
SUMMARY:Talk on St. Edith Stein
DESCRIPTION:All students – Grad/YP and undergrads – are invited to a talk by Jesuit priest Fr.Peter Bernardi on St. Edith Stein.
URL:https://michigancatholics.org/event/talk-on-st-edith-stein/
CATEGORIES:Grad Students & Young Professionals,Homepage,Student
END:VEVENT
BEGIN:VEVENT
DTSTART;TZID=America/Detroit:20240413T184500
DTEND;TZID=America/Detroit:20240413T220000
DTSTAMP:20260424T225603
CREATED:20240404T133850Z
LAST-MODIFIED:20240404T133852Z
UID:39664-1713033900-1713045600@michigancatholics.org
SUMMARY:A night at Bowling
DESCRIPTION:Meet at St Mary at 6:45\, register here by April 10:  \n\n\n\nBOWLING NIGHT! (google.com)
URL:https://michigancatholics.org/event/a-night-at-bowling/
CATEGORIES:Grad Students & Young Professionals,Homepage,Student
END:VEVENT
BEGIN:VEVENT
DTSTART;TZID=America/Detroit:20240409T193000
DTEND;TZID=America/Detroit:20240409T203000
DTSTAMP:20260424T225603
CREATED:20240404T133114Z
LAST-MODIFIED:20240404T133116Z
UID:39657-1712691000-1712694600@michigancatholics.org
SUMMARY:Chaldean Mass
DESCRIPTION:
URL:https://michigancatholics.org/event/chaldean-mass/
CATEGORIES:Grad Students & Young Professionals,Homepage,Student
END:VEVENT
BEGIN:VEVENT
DTSTART;TZID=America/Detroit:20240405T190000
DTEND;TZID=America/Detroit:20240405T220000
DTSTAMP:20260424T225603
CREATED:20240404T133209Z
LAST-MODIFIED:20240404T133210Z
UID:39660-1712343600-1712354400@michigancatholics.org
SUMMARY:Semi formal dance
DESCRIPTION:
URL:https://michigancatholics.org/event/semi-formal-dance/
CATEGORIES:Homepage,Student
END:VEVENT
BEGIN:VEVENT
DTSTART;TZID=America/Detroit:20240322T170000
DTEND;TZID=America/Detroit:20240322T190000
DTSTAMP:20260424T225603
CREATED:20240305T162445Z
LAST-MODIFIED:20240305T162454Z
UID:39563-1711126800-1711134000@michigancatholics.org
SUMMARY:Peer Ministry Intern Stations of the Cross
DESCRIPTION:
URL:https://michigancatholics.org/event/peer-ministry-intern-stations-of-the-cross/
CATEGORIES:Grad Students & Young Professionals,Homepage,Student
END:VEVENT
BEGIN:VEVENT
DTSTART;TZID=America/Detroit:20240303T190000
DTEND;TZID=America/Detroit:20240303T210000
DTSTAMP:20260424T225603
CREATED:20240213T151742Z
LAST-MODIFIED:20240213T151744Z
UID:39497-1709492400-1709499600@michigancatholics.org
SUMMARY:Tour of Relics of St. Jean de Brébeuf
DESCRIPTION:Jesuits are traveling with the relics of St. Jean de Brébeuf across the USA. Pilgrims will have the opportunity to venerate the relics\, attend Mass\, and hear a presentation on the story of the life and death of this missionary-martyr. \n\n\n\n7-8 pm – Veneration in church8-9 pm – Student Mass9-10 pm – Presentation
URL:https://michigancatholics.org/event/tour-of-relics-of-st-jean-de-brebeuf-2/
CATEGORIES:Grad Students & Young Professionals,Homepage,Student
END:VEVENT
BEGIN:VEVENT
DTSTART;TZID=America/Detroit:20240303T181500
DTEND;TZID=America/Detroit:20240303T194500
DTSTAMP:20260424T225603
CREATED:20240223T145532Z
LAST-MODIFIED:20240223T145541Z
UID:39533-1709489700-1709495100@michigancatholics.org
SUMMARY:Ignatian Yoga
DESCRIPTION:Fr. Bobby and Alan Haras will offer an Ignatian Spirituality & Yoga session on Sunday\, March 3\, in Donnelly Hall from 6:15-7:45 pm. All are welcome.  Registration at ignatianspiritualityandyoga.com/programs
URL:https://michigancatholics.org/event/ignatian-yoga/
CATEGORIES:Grad Students & Young Professionals,Homepage,Student
END:VEVENT
BEGIN:VEVENT
DTSTART;TZID=America/Detroit:20240223T100000
DTEND;TZID=America/Detroit:20240223T160000
DTSTAMP:20260424T225603
CREATED:20231103T150222Z
LAST-MODIFIED:20240208T161300Z
UID:39071-1708682400-1708704000@michigancatholics.org
SUMMARY:RED CROSS BLOOD DRIVE
DESCRIPTION:
URL:https://michigancatholics.org/event/red-cross-blood-drive-2/
CATEGORIES:Grad Students & Young Professionals,Homepage,Student
END:VEVENT
BEGIN:VEVENT
DTSTART;TZID=America/Detroit:20240207T183000
DTEND;TZID=America/Detroit:20240207T200000
DTSTAMP:20260424T225603
CREATED:20240131T203543Z
LAST-MODIFIED:20240131T203545Z
UID:39424-1707330600-1707336000@michigancatholics.org
SUMMARY:Encounter night
DESCRIPTION:A diocese provided Eucharistic encounter night with professional musicians\, adoration\, prayer\, and a social afterwards.
URL:https://michigancatholics.org/event/encounter-night/
CATEGORIES:Grad Students & Young Professionals,Homepage,Student
END:VEVENT
BEGIN:VEVENT
DTSTART;TZID=America/Detroit:20240202T190000
DTEND;TZID=America/Detroit:20240202T220000
DTSTAMP:20260424T225603
CREATED:20240119T201323Z
LAST-MODIFIED:20240119T201324Z
UID:39392-1706900400-1706911200@michigancatholics.org
SUMMARY:Salsa Night
DESCRIPTION:Join us for a night of salsa instruction and dancing to celebrate the Feast of Candlemas!
URL:https://michigancatholics.org/event/salsa-night/
CATEGORIES:Español,Grad Students & Young Professionals,Homepage,Student
END:VEVENT
BEGIN:VEVENT
DTSTART;TZID=America/Detroit:20240127T110000
DTEND;TZID=America/Detroit:20240127T130000
DTSTAMP:20260424T225603
CREATED:20240119T201126Z
LAST-MODIFIED:20240119T201128Z
UID:39390-1706353200-1706360400@michigancatholics.org
SUMMARY:Kateri Mass & Reception
DESCRIPTION:The Kateri Institute for Catholic Studies will be sponsoring a Votive Mass for St. Thomas Aquinas at St. Mary Student Parish followed by a reception with free pizza.  This event will be an opportunity for Catholic faculty and staff to connect with Catholic undergraduate and graduate students at Michigan.
URL:https://michigancatholics.org/event/kateri-mass-reception/
CATEGORIES:Grad Students & Young Professionals,Homepage,Student
END:VEVENT
BEGIN:VEVENT
DTSTART;TZID=America/Detroit:20240126T190000
DTEND;TZID=America/Detroit:20240126T214500
DTSTAMP:20260424T225603
CREATED:20240110T181125Z
LAST-MODIFIED:20240110T181127Z
UID:39346-1706295600-1706305500@michigancatholics.org
SUMMARY:Talent Show
DESCRIPTION:Students\, join us for formation at 6:30pm\, followed by a talent show at 7pm! Come individually or with a group\, ready to share your musical\, artistic\, or other unique talents!
URL:https://michigancatholics.org/event/talent-show/
CATEGORIES:Homepage,Student
END:VEVENT
BEGIN:VEVENT
DTSTART;TZID=America/Detroit:20240119T183000
DTEND;TZID=America/Detroit:20240119T213000
DTSTAMP:20260424T225603
CREATED:20240109T205843Z
LAST-MODIFIED:20240110T175037Z
UID:39342-1705689000-1705699800@michigancatholics.org
SUMMARY:Catholic Trivia Night
DESCRIPTION:Students\, join us for formation at 6:30pm\, followed by a night of Catholic trivia games! Come as a team or play as an individual!
URL:https://michigancatholics.org/event/catholic-trivia-night/
CATEGORIES:Homepage,Student
ORGANIZER;CN="Bailey Burke":MAILTO:bburke@smspnewman.org
END:VEVENT
BEGIN:VEVENT
DTSTART;TZID=America/Detroit:20240112T183000
DTEND;TZID=America/Detroit:20240112T200000
DTSTAMP:20260424T225603
CREATED:20240108T170406Z
LAST-MODIFIED:20240110T201423Z
UID:39339-1705084200-1705089600@michigancatholics.org
SUMMARY:Casino Night
DESCRIPTION:Join us for a Casino Night\, prizes and fun with Friends!
URL:https://michigancatholics.org/event/casino-night/
CATEGORIES:Homepage,Student
END:VEVENT
BEGIN:VEVENT
DTSTART;TZID=America/Detroit:20240111T171000
DTEND;TZID=America/Detroit:20240111T191500
DTSTAMP:20260424T225603
CREATED:20230822T182259Z
LAST-MODIFIED:20240110T180249Z
UID:38687-1704993000-1705000500@michigancatholics.org
SUMMARY:Ig.Nite Mass & Dinner
DESCRIPTION:All undergrads are invited to join us for mass followed by dinner and a short talk. This student-led space each week encourages community and fellowship through sharing a meal together.
URL:https://michigancatholics.org/event/ig-nite-mass-dinner/
CATEGORIES:Homepage,Student
END:VEVENT
BEGIN:VEVENT
DTSTART;TZID=America/Detroit:20231213T190000
DTEND;TZID=America/Detroit:20231213T200000
DTSTAMP:20260424T225603
CREATED:20231207T193709Z
LAST-MODIFIED:20231207T193711Z
UID:39240-1702494000-1702497600@michigancatholics.org
SUMMARY:Advent Penance Service
DESCRIPTION:
URL:https://michigancatholics.org/event/advent-penance-service/
CATEGORIES:Español,Grad Students & Young Professionals,Homepage,Student
END:VEVENT
BEGIN:VEVENT
DTSTART;TZID=America/Detroit:20231212T190000
DTEND;TZID=America/Detroit:20231212T210000
DTSTAMP:20260424T225603
CREATED:20231117T170408Z
LAST-MODIFIED:20231211T174030Z
UID:39179-1702407600-1702414800@michigancatholics.org
SUMMARY:Our Lady of Guadalupe
DESCRIPTION:Join us on December 12 @ 7 Pm (bilingual mass) followed by a potluck dinner (bring a dish to share) .  \n\n\n\nHere is the link to watch the mass online:
URL:https://michigancatholics.org/event/our-lady-of-guadalupe/
CATEGORIES:Español,Grad Students & Young Professionals,Homepage,Student
END:VEVENT
BEGIN:VEVENT
DTSTART;TZID=America/Detroit:20231205T190000
DTEND;TZID=America/Detroit:20231205T200000
DTSTAMP:20260424T225603
CREATED:20231117T165933Z
LAST-MODIFIED:20231117T165934Z
UID:39175-1701802800-1701806400@michigancatholics.org
SUMMARY:Advent Prayer Service
DESCRIPTION:All are invited to an evening of prayer as we enter this Advent season\, and reflect on God’s many gifts to us\, especially the gift of his Son through the Mystery of the Incarnation. We will also pray an Ignatian Examen to discover how God is at work in our lives\, and in the world.For questions\, contact rzyber@smspnewman.org
URL:https://michigancatholics.org/event/advent-prayer-service/
LOCATION:Church
CATEGORIES:Español,Grad Students & Young Professionals,Homepage,Student
END:VEVENT
BEGIN:VEVENT
DTSTART;TZID=America/Detroit:20231201T190000
DTEND;TZID=America/Detroit:20231201T220000
DTSTAMP:20260424T225603
CREATED:20231117T165647Z
LAST-MODIFIED:20231117T165648Z
UID:39173-1701457200-1701468000@michigancatholics.org
SUMMARY:FILIPINO CULTURE NIGHT
DESCRIPTION:Join us for a Filipino Culture Night! All are welcome to come for Parol making and to gain insight into the rich Filipino faith-based Catholic traditions in preparing for the Christmas Season through activities that will help children\, adults and others discover the spiritual meaning of Christmas.
URL:https://michigancatholics.org/event/filipino-culture-night/
LOCATION:Newman Hall
CATEGORIES:Español,Grad Students & Young Professionals,Homepage,Student
ORGANIZER;CN="Bailey Burke":MAILTO:bburke@smspnewman.org
END:VEVENT
BEGIN:VEVENT
DTSTART;TZID=America/Detroit:20231129T190000
DTEND;TZID=America/Detroit:20231129T210000
DTSTAMP:20260424T225603
CREATED:20231117T165305Z
LAST-MODIFIED:20231117T165309Z
UID:39170-1701284400-1701291600@michigancatholics.org
SUMMARY:Catholic Studies Night
DESCRIPTION:All Undergraduates are invited to join and be inspired by other enthusiastic seekers who are on the RCIA journey. These open RCIA Wednesday night\, sessions are an opportunity for Catholic undergrads to dive deeper into their faith and Catholic teaching.
URL:https://michigancatholics.org/event/catholic-studies-night/
CATEGORIES:Homepage,Student
END:VEVENT
BEGIN:VEVENT
DTSTART;TZID=America/Detroit:20231117T190000
DTEND;TZID=America/Detroit:20231117T220000
DTSTAMP:20260424T225603
CREATED:20231107T142515Z
LAST-MODIFIED:20231107T142516Z
UID:39094-1700247600-1700258400@michigancatholics.org
SUMMARY:Fall Formal
DESCRIPTION:St Mary Student Parish is hosting a Fall Formal Dance for all undergraduates! Join us for Fall fun and refreshments in Donnelly Hall.
URL:https://michigancatholics.org/event/fall-formal/
CATEGORIES:Homepage,Student
END:VEVENT
BEGIN:VEVENT
DTSTART;TZID=America/Detroit:20231114T193000
DTEND;TZID=America/Detroit:20231114T213000
DTSTAMP:20260424T225603
CREATED:20231107T143151Z
LAST-MODIFIED:20231107T143229Z
UID:39098-1699990200-1699997400@michigancatholics.org
SUMMARY:Chaldean Mass & Reception
DESCRIPTION:
URL:https://michigancatholics.org/event/chaldean-mass-reception/
CATEGORIES:Grad Students & Young Professionals,Homepage,Student
END:VEVENT
BEGIN:VEVENT
DTSTART;TZID=America/Detroit:20231109T184500
DTEND;TZID=America/Detroit:20231109T201500
DTSTAMP:20260424T225603
CREATED:20231020T162342Z
LAST-MODIFIED:20231109T135230Z
UID:39032-1699555500-1699560900@michigancatholics.org
SUMMARY:Eucharistic Revival Speaker: Dr John Bergsma
DESCRIPTION:In observance of the National Eucharistic Revival\, Catholic biblical scholar and theologian Dr. John Bergsma from Franciscan University will speak on the topic: Is the Eucharist Just “a Meal to Remember Jesus”?Dr. Bergsma served as a Protestant pastor for four years before entering the Catholic Church in 2001 while pursuing a Ph.D. in Theology from the University of Notre Dame. He will be available after his talk to sell and sign his books. All are welcome!Parking is available at the Maynard Parking Structure (next to the Church on Thompson Street).
URL:https://michigancatholics.org/event/eucharistic-revival-speaker-dr-john-bergsma/
CATEGORIES:Español,Grad Students & Young Professionals,Homepage,Student
END:VEVENT
BEGIN:VEVENT
DTSTART;TZID=America/Detroit:20231106T181500
DTEND;TZID=America/Detroit:20231106T191500
DTSTAMP:20260424T225603
CREATED:20231026T173806Z
LAST-MODIFIED:20231026T173808Z
UID:39052-1699294500-1699298100@michigancatholics.org
SUMMARY:Living our Faith in a secular culture
DESCRIPTION:Guest speaker Dr. Kristin Collier will speak to undergraduate students and Grad/YP about the challenge of living out their faith at UM. There will be opportunity to table discussion and questions.
URL:https://michigancatholics.org/event/living-our-faith-in-a-secular-culture/
CATEGORIES:Grad Students & Young Professionals,Homepage,Student
END:VEVENT
BEGIN:VEVENT
DTSTART;TZID=America/Detroit:20231105T180000
DTEND;TZID=America/Detroit:20231105T190000
DTSTAMP:20260424T225603
CREATED:20231020T162138Z
LAST-MODIFIED:20231020T162140Z
UID:39030-1699207200-1699210800@michigancatholics.org
SUMMARY:Religious Vocations Fair
DESCRIPTION:Come and meet religious sisters\, brothers\, and priests at our annual Vocations Fair. We will be joined by three women’s congregations\, three men’s congregations\, and the Diocese of Lansing. Free pizza will be served!
URL:https://michigancatholics.org/event/religious-vocations-fair/
CATEGORIES:Grad Students & Young Professionals,Homepage,Student
END:VEVENT
END:VCALENDAR