BEGIN:VCALENDAR
VERSION:2.0
PRODID:-//St. Mary Student Parish - Ann Arbor, Michigan - ECPv6.15.20//NONSGML v1.0//EN
CALSCALE:GREGORIAN
METHOD:PUBLISH
X-ORIGINAL-URL:https://michigancatholics.org
X-WR-CALDESC:Events for St. Mary Student Parish - Ann Arbor, Michigan
REFRESH-INTERVAL;VALUE=DURATION:PT1H
X-Robots-Tag:noindex
X-PUBLISHED-TTL:PT1H
BEGIN:VTIMEZONE
TZID:America/Detroit
BEGIN:DAYLIGHT
TZOFFSETFROM:-0500
TZOFFSETTO:-0400
TZNAME:EDT
DTSTART:20230312T070000
END:DAYLIGHT
BEGIN:STANDARD
TZOFFSETFROM:-0400
TZOFFSETTO:-0500
TZNAME:EST
DTSTART:20231105T060000
END:STANDARD
BEGIN:DAYLIGHT
TZOFFSETFROM:-0500
TZOFFSETTO:-0400
TZNAME:EDT
DTSTART:20240310T070000
END:DAYLIGHT
BEGIN:STANDARD
TZOFFSETFROM:-0400
TZOFFSETTO:-0500
TZNAME:EST
DTSTART:20241103T060000
END:STANDARD
BEGIN:DAYLIGHT
TZOFFSETFROM:-0500
TZOFFSETTO:-0400
TZNAME:EDT
DTSTART:20250309T070000
END:DAYLIGHT
BEGIN:STANDARD
TZOFFSETFROM:-0400
TZOFFSETTO:-0500
TZNAME:EST
DTSTART:20251102T060000
END:STANDARD
BEGIN:DAYLIGHT
TZOFFSETFROM:-0500
TZOFFSETTO:-0400
TZNAME:EDT
DTSTART:20260308T070000
END:DAYLIGHT
BEGIN:STANDARD
TZOFFSETFROM:-0400
TZOFFSETTO:-0500
TZNAME:EST
DTSTART:20261101T060000
END:STANDARD
END:VTIMEZONE
BEGIN:VEVENT
DTSTART;TZID=America/Detroit:20250427T130000
DTEND;TZID=America/Detroit:20250427T160000
DTSTAMP:20260424T165158
CREATED:20250410T143350Z
LAST-MODIFIED:20250410T143351Z
UID:41240-1745758800-1745769600@michigancatholics.org
SUMMARY:Earth Day of Service
DESCRIPTION:Join a group of St Mary’s parishioners as we care for our common home and celebrate Earth Day. Students children and families are welcome! \n\n\n\n@ Matthaei Botanical Gardens \n\n\n\nContact Julia Novotney jnovotny@smspnewman.org
URL:https://michigancatholics.org/event/earth-day-of-service-2/
CATEGORIES:Español,Grad Students & Young Professionals,Homepage,Student
END:VEVENT
BEGIN:VEVENT
DTSTART;TZID=America/Detroit:20250418T140000
DTEND;TZID=America/Detroit:20250418T170000
DTSTAMP:20260424T165158
CREATED:20250410T143013Z
LAST-MODIFIED:20250410T143058Z
UID:41235-1744984800-1744995600@michigancatholics.org
SUMMARY:Good Friday Stations of the Cross Procession
DESCRIPTION:Walk and Pray the Stations of the Cross from St. Thomas to St. Mary Student Parish.
URL:https://michigancatholics.org/event/good-friday-stations-of-the-cross-procession/
CATEGORIES:Español,Grad Students & Young Professionals,Homepage,Student
END:VEVENT
BEGIN:VEVENT
DTSTART;TZID=America/Detroit:20250411T160000
DTEND;TZID=America/Detroit:20250411T173000
DTSTAMP:20260424T165158
CREATED:20250410T142344Z
LAST-MODIFIED:20250410T142350Z
UID:41231-1744387200-1744392600@michigancatholics.org
SUMMARY:Stations of the Cross through the Lens of Autism
DESCRIPTION:
URL:https://michigancatholics.org/event/stations-of-the-cross-through-the-lens-of-autism/
CATEGORIES:Grad Students & Young Professionals,Homepage,Student
END:VEVENT
BEGIN:VEVENT
DTSTART;TZID=America/Detroit:20250409T191500
DTEND;TZID=America/Detroit:20250409T200000
DTSTAMP:20260424T165158
CREATED:20250320T144615Z
LAST-MODIFIED:20250320T144617Z
UID:41189-1744226100-1744228800@michigancatholics.org
SUMMARY:OCIA Stations of the Cross
DESCRIPTION:
URL:https://michigancatholics.org/event/ocia-stations-of-the-cross/
CATEGORIES:Grad Students & Young Professionals,Homepage,Student
END:VEVENT
BEGIN:VEVENT
DTSTART;TZID=America/Detroit:20250404T180000
DTEND;TZID=America/Detroit:20250404T190000
DTSTAMP:20260424T165158
CREATED:20250320T144455Z
LAST-MODIFIED:20250320T144500Z
UID:41187-1743789600-1743793200@michigancatholics.org
SUMMARY:Stations of the Cross led by Grad/YP group
DESCRIPTION:
URL:https://michigancatholics.org/event/stations-of-the-cross-led-by-grad-yp-group/
CATEGORIES:Grad Students & Young Professionals,Homepage,Student
END:VEVENT
BEGIN:VEVENT
DTSTART;TZID=America/Detroit:20250403T191500
DTEND;TZID=America/Detroit:20250403T201500
DTSTAMP:20260424T165158
CREATED:20250228T194917Z
LAST-MODIFIED:20250228T194919Z
UID:41125-1743707700-1743711300@michigancatholics.org
SUMMARY:Lenten Prayer and Penance Service
DESCRIPTION:
URL:https://michigancatholics.org/event/lenten-prayer-and-penance-service/
CATEGORIES:Grad Students & Young Professionals,Homepage,Student
END:VEVENT
BEGIN:VEVENT
DTSTART;TZID=America/Detroit:20250320T193000
DTEND;TZID=America/Detroit:20250320T203000
DTSTAMP:20260424T165158
CREATED:20250312T165001Z
LAST-MODIFIED:20250312T165003Z
UID:41149-1742499000-1742502600@michigancatholics.org
SUMMARY:Jesuit History Talk
DESCRIPTION:Two of our former pastors\, Fr. Tom Firestone and Fr. Tom McClain\,will join us as part of our ongoing centennial celebration. They will discuss howthe arrangements came to be made for the arrival of the Jesuits. The talk is at7:30 p.m. in Donnelly Hall. Come and welcome them back and hear more aboutthis important milestone in our parish history.
URL:https://michigancatholics.org/event/jesuit-history-talk/
CATEGORIES:Grad Students & Young Professionals,Homepage,Student
END:VEVENT
BEGIN:VEVENT
DTSTART;TZID=America/Detroit:20250314T170000
DTEND;TZID=America/Detroit:20250314T180000
DTSTAMP:20260424T165158
CREATED:20250228T194703Z
LAST-MODIFIED:20250228T194705Z
UID:41121-1741971600-1741975200@michigancatholics.org
SUMMARY:Undergrads Stations of the Cross
DESCRIPTION:
URL:https://michigancatholics.org/event/undergrads-stations-of-the-cross/
CATEGORIES:Grad Students & Young Professionals,Homepage,Student
END:VEVENT
BEGIN:VEVENT
DTSTART;TZID=America/Detroit:20250309T110000
DTEND;TZID=America/Detroit:20250309T120000
DTSTAMP:20260424T165158
CREATED:20250228T194523Z
LAST-MODIFIED:20250228T194525Z
UID:41119-1741518000-1741521600@michigancatholics.org
SUMMARY:Coffee and Donuts with a Jesuit
DESCRIPTION:After 10 am mass\, come and meet our Jesuit Novice\, Noah Smith\, nSJ
URL:https://michigancatholics.org/event/coffee-and-donuts-with-a-jesuit/
CATEGORIES:Grad Students & Young Professionals,Homepage,Student
END:VEVENT
BEGIN:VEVENT
DTSTART;TZID=America/Detroit:20250227T190000
DTEND;TZID=America/Detroit:20250227T203000
DTSTAMP:20260424T165158
CREATED:20250226T151658Z
LAST-MODIFIED:20250226T164852Z
UID:41101-1740682800-1740688200@michigancatholics.org
SUMMARY:Ignatian Prayer Series
DESCRIPTION:Ignatian Prayer.  What Is it? What makes it unique?  Is it for you?A three-session series about Ignatian prayer practices and the thinking behind them.  Explore what St. Ignatius thought about prayer and the methods of prayer he and others have developed to deepen our awareness of seeking and finding God in all things. Etta Mac Donagh-Dumler and Jim Manney will lead sessions in Donnelly Hall on Feb 27\, March 6\, and March 13 from 7 to 8:30 pm. Use these sessions as a preparation for your Lenten journey. Registration is encouraged\, but all are welcome to drop in to any of the evenings. Register by contacting  rzyber@smspnewman.org.
URL:https://michigancatholics.org/event/ignatian-prayer-series/
CATEGORIES:Grad Students & Young Professionals,Homepage,Student
END:VEVENT
BEGIN:VEVENT
DTSTART;TZID=America/Detroit:20241210T183000
DTEND;TZID=America/Detroit:20241210T210000
DTSTAMP:20260424T165158
CREATED:20241119T155120Z
LAST-MODIFIED:20241119T155122Z
UID:40753-1733855400-1733864400@michigancatholics.org
SUMMARY:Advent Prayer and Penance Service
DESCRIPTION:Ignatian Reflection led by Fr Dan followed by Penance Service
URL:https://michigancatholics.org/event/advent-prayer-and-penance-service/
CATEGORIES:Grad Students & Young Professionals,Homepage,Student
END:VEVENT
BEGIN:VEVENT
DTSTART;TZID=America/Detroit:20241118T183000
DTEND;TZID=America/Detroit:20241118T200000
DTSTAMP:20260424T165158
CREATED:20241108T221359Z
LAST-MODIFIED:20241108T221402Z
UID:40733-1731954600-1731960000@michigancatholics.org
SUMMARY:Christian Contemplative Prayer and Mental Health
DESCRIPTION:This session will provide practical insights and spiritual guidance for incorporating contemplative practices into your daily life to foster emotional well-being. Experience how contemplative prayer can deepen your relationship with God while promoting mental clarity\, peace\, and resilience.  \n\n\n\nNo registration required. All are welcome.
URL:https://michigancatholics.org/event/christian-contemplative-prayer-and-mental-health/
CATEGORIES:Grad Students & Young Professionals,Homepage,Student
END:VEVENT
BEGIN:VEVENT
DTSTART;TZID=America/Detroit:20241103T180000
DTEND;TZID=America/Detroit:20241103T193000
DTSTAMP:20260424T165158
CREATED:20241015T184647Z
LAST-MODIFIED:20241015T184649Z
UID:40541-1730656800-1730662200@michigancatholics.org
SUMMARY:Vocations fair
DESCRIPTION:meet representatives from more than a dozen religious orders and the Diocese!
URL:https://michigancatholics.org/event/vocations-fair/
CATEGORIES:Grad Students & Young Professionals,Homepage,Student
END:VEVENT
BEGIN:VEVENT
DTSTART;TZID=America/Detroit:20241030T210000
DTEND;TZID=America/Detroit:20241030T220000
DTSTAMP:20260424T165158
CREATED:20241029T163115Z
LAST-MODIFIED:20241029T163117Z
UID:40598-1730322000-1730325600@michigancatholics.org
SUMMARY:Candlelight Mass
DESCRIPTION:
URL:https://michigancatholics.org/event/candlelight-mass-2/
CATEGORIES:Grad Students & Young Professionals,Homepage,Student
END:VEVENT
BEGIN:VEVENT
DTSTART;TZID=America/Detroit:20241029T203000
DTEND;TZID=America/Detroit:20241029T220000
DTSTAMP:20260424T165158
CREATED:20241015T184322Z
LAST-MODIFIED:20241015T184323Z
UID:40539-1730233800-1730239200@michigancatholics.org
SUMMARY:Alternative Spring Break- Info session
DESCRIPTION:ASB is a week-long service immersion over Spring Break for undergrads to learn about complex justice issues \, encounter Christ in others\, and deepen their faith
URL:https://michigancatholics.org/event/alternative-spring-break-info-session/
CATEGORIES:Homepage,Student
END:VEVENT
BEGIN:VEVENT
DTSTART;TZID=America/Detroit:20241025T190000
DTEND;TZID=America/Detroit:20241025T220000
DTSTAMP:20260424T165158
CREATED:20241015T184746Z
LAST-MODIFIED:20241015T184748Z
UID:40543-1729882800-1729893600@michigancatholics.org
SUMMARY:Fire and Flannels
DESCRIPTION:All undergrads are welcome! Weare a flannel!
URL:https://michigancatholics.org/event/fire-and-flannels/
CATEGORIES:Homepage,Student
END:VEVENT
BEGIN:VEVENT
DTSTART;TZID=America/Detroit:20241020T181500
DTEND;TZID=America/Detroit:20241020T194500
DTSTAMP:20260424T165158
CREATED:20241007T142543Z
LAST-MODIFIED:20241007T142545Z
UID:40470-1729448100-1729453500@michigancatholics.org
SUMMARY:Is there such thing as a "catholic vote" ?
DESCRIPTION:Join us for a presentation by UM political science professor Dr. Ken Kollman and Fr. Dan about the history of U.S. Catholics and voting\, incorporating all elements Catholic social teaching into decisions about voting. \n\n\n\nSmall group discussion will follow.
URL:https://michigancatholics.org/event/is-there-such-thing-as-a-catholic-vote/
CATEGORIES:Grad Students & Young Professionals,Homepage,Student
END:VEVENT
BEGIN:VEVENT
DTSTART;TZID=America/Detroit:20241017T190000
DTEND;TZID=America/Detroit:20241017T210000
DTSTAMP:20260424T165158
CREATED:20241009T192020Z
LAST-MODIFIED:20241009T192022Z
UID:40487-1729191600-1729198800@michigancatholics.org
SUMMARY:Chaldean Mass and reception
DESCRIPTION:
URL:https://michigancatholics.org/event/chaldean-mass-and-reception/
CATEGORIES:Grad Students & Young Professionals,Homepage,Student
END:VEVENT
BEGIN:VEVENT
DTSTART;TZID=America/Detroit:20241007T174500
DTEND;TZID=America/Detroit:20241007T183000
DTSTAMP:20260424T165158
CREATED:20240927T172106Z
LAST-MODIFIED:20240927T172109Z
UID:40399-1728323100-1728325800@michigancatholics.org
SUMMARY:Ignatian Rosary
DESCRIPTION:Join us on the Feast of our Lady of the Rosary as we pray through the Joyful Mysteries with imaginative\, Ignatian contemplation.
URL:https://michigancatholics.org/event/ignatian-rosary/
CATEGORIES:Grad Students & Young Professionals,Homepage,Student
END:VEVENT
BEGIN:VEVENT
DTSTART;TZID=America/Detroit:20241005T100000
DTEND;TZID=America/Detroit:20241005T170000
DTSTAMP:20260424T165158
CREATED:20240910T143229Z
LAST-MODIFIED:20240910T143231Z
UID:40251-1728122400-1728147600@michigancatholics.org
SUMMARY:New Student Retreat
DESCRIPTION:Freshmen and transfer students\, join us for a day-retreat at St Mary Student Parish to reflect on your first month of school!
URL:https://michigancatholics.org/event/new-student-retreat/
CATEGORIES:Homepage,Student
END:VEVENT
BEGIN:VEVENT
DTSTART;TZID=America/Detroit:20240926T190000
DTEND;TZID=America/Detroit:20240926T200000
DTSTAMP:20260424T165158
CREATED:20240910T143538Z
LAST-MODIFIED:20240910T143540Z
UID:40253-1727377200-1727380800@michigancatholics.org
SUMMARY:Alternative Spring Break Info Session and Site reveal
DESCRIPTION:ASB is a week-long service immersion over Spring Break for undergrads to learn about complex justice issues\, encounter Christ in others\, and deepen their faith.
URL:https://michigancatholics.org/event/alternative-spring-break-info-session-and-site-reveal/
CATEGORIES:Homepage,Student
END:VEVENT
BEGIN:VEVENT
DTSTART;TZID=America/Detroit:20240908T180000
DTEND;TZID=America/Detroit:20240908T200000
DTSTAMP:20260424T165158
CREATED:20240828T193813Z
LAST-MODIFIED:20240828T193814Z
UID:40206-1725818400-1725825600@michigancatholics.org
SUMMARY:Fresh Gathering
DESCRIPTION:New to Campus? Join us for a home-cooked meal and learn how St Mary can become your new home away from home.
URL:https://michigancatholics.org/event/fresh-gathering-2/
CATEGORIES:Homepage,Student
END:VEVENT
BEGIN:VEVENT
DTSTART;TZID=America/Detroit:20240902T180000
DTEND;TZID=America/Detroit:20240902T200000
DTSTAMP:20260424T165158
CREATED:20240828T192939Z
LAST-MODIFIED:20240828T192941Z
UID:40202-1725300000-1725307200@michigancatholics.org
SUMMARY:Undergrad Welcome BBQ
DESCRIPTION:
URL:https://michigancatholics.org/event/undergrad-welcome-bbq/
CATEGORIES:Homepage,Student
END:VEVENT
BEGIN:VEVENT
DTSTART;TZID=America/Detroit:20240819T183000
DTEND;TZID=America/Detroit:20240819T200000
DTSTAMP:20260424T165158
CREATED:20240801T190625Z
LAST-MODIFIED:20240801T190626Z
UID:40134-1724092200-1724097600@michigancatholics.org
SUMMARY:"The Freedom of Missing Out"               Talk by Fr Michael Rossmann
DESCRIPTION:Many of us struggle to commit to someone or something. Get overthe fear of missing out (FOMO) and experience the freedom thatcomes from making a good decision and saying YES to what matters.This discussion will be hosted by Grad/YP and is open to everyonefrom the St. Mary Student Parish community.
URL:https://michigancatholics.org/event/the-freedom-of-missing-out-talk-by-fr-michael-rossmann/
CATEGORIES:Grad Students & Young Professionals,Homepage,Student
END:VEVENT
BEGIN:VEVENT
DTSTART;TZID=America/Detroit:20240807T190000
DTEND;TZID=America/Detroit:20240807T210000
DTSTAMP:20260424T165158
CREATED:20240801T185342Z
LAST-MODIFIED:20240801T185344Z
UID:40128-1723057200-1723064400@michigancatholics.org
SUMMARY:Bonfire
DESCRIPTION:Bonfire after Adoration for Young Adults
URL:https://michigancatholics.org/event/bonfire/
CATEGORIES:Grad Students & Young Professionals,Homepage,Student
END:VEVENT
BEGIN:VEVENT
DTSTART;TZID=America/Detroit:20240623T180000
DTEND;TZID=America/Detroit:20240623T193000
DTSTAMP:20260424T165158
CREATED:20240603T170651Z
LAST-MODIFIED:20240603T170653Z
UID:39927-1719165600-1719171000@michigancatholics.org
SUMMARY:Welcome Cookout for incoming and current students
DESCRIPTION:
URL:https://michigancatholics.org/event/welcome-cookout-for-incoming-and-current-students/
CATEGORIES:Grad Students & Young Professionals,Homepage,Student
END:VEVENT
BEGIN:VEVENT
DTSTART;TZID=America/Detroit:20240602T181500
DTEND;TZID=America/Detroit:20240602T193000
DTSTAMP:20260424T165158
CREATED:20240514T165923Z
LAST-MODIFIED:20240514T165925Z
UID:39828-1717352100-1717356600@michigancatholics.org
SUMMARY:Corpus Christi Eucharistic Procession
DESCRIPTION:Walk and pray with Our Eucharistic Lord from St. Mary through the UM Campus and downtown Ann Arbor to St. Thomas
URL:https://michigancatholics.org/event/corpus-christi-eucharistic-procession/
CATEGORIES:Grad Students & Young Professionals,Homepage,Student
END:VEVENT
BEGIN:VEVENT
DTSTART;TZID=America/Detroit:20240426T190000
DTEND;TZID=America/Detroit:20240426T210000
DTSTAMP:20260424T165158
CREATED:20240410T151041Z
LAST-MODIFIED:20240410T151042Z
UID:39691-1714158000-1714165200@michigancatholics.org
SUMMARY:Transcendence Literary Magazine Launch Party
DESCRIPTION:A launch party and open mic event to celebrate Transcendence
URL:https://michigancatholics.org/event/transcendence-literary-magazine-launch-party/
CATEGORIES:Grad Students & Young Professionals,Homepage,Student
END:VEVENT
BEGIN:VEVENT
DTSTART;TZID=America/Detroit:20240419T190000
DTEND;TZID=America/Detroit:20240419T200000
DTSTAMP:20260424T165158
CREATED:20240418T141644Z
LAST-MODIFIED:20240418T141646Z
UID:39716-1713553200-1713556800@michigancatholics.org
SUMMARY:WORSHIP NIGHT
DESCRIPTION:Live praise and worship music during Adoration\, followed by fellowship in the lounge!
URL:https://michigancatholics.org/event/worship-night/
CATEGORIES:Grad Students & Young Professionals,Homepage,Student
END:VEVENT
BEGIN:VEVENT
DTSTART;TZID=America/Detroit:20240415T183000
DTEND;TZID=America/Detroit:20240415T200000
DTSTAMP:20260424T165158
CREATED:20240410T150548Z
LAST-MODIFIED:20240410T150550Z
UID:39689-1713205800-1713211200@michigancatholics.org
SUMMARY:Talk on St. Edith Stein
DESCRIPTION:All students – Grad/YP and undergrads – are invited to a talk by Jesuit priest Fr.Peter Bernardi on St. Edith Stein.
URL:https://michigancatholics.org/event/talk-on-st-edith-stein/
CATEGORIES:Grad Students & Young Professionals,Homepage,Student
END:VEVENT
END:VCALENDAR