BEGIN:VCALENDAR
VERSION:2.0
PRODID:-//St. Mary Student Parish - Ann Arbor, Michigan - ECPv6.15.20//NONSGML v1.0//EN
CALSCALE:GREGORIAN
METHOD:PUBLISH
X-WR-CALNAME:St. Mary Student Parish - Ann Arbor, Michigan
X-ORIGINAL-URL:https://michigancatholics.org
X-WR-CALDESC:Events for St. Mary Student Parish - Ann Arbor, Michigan
REFRESH-INTERVAL;VALUE=DURATION:PT1H
X-Robots-Tag:noindex
X-PUBLISHED-TTL:PT1H
BEGIN:VTIMEZONE
TZID:America/Detroit
BEGIN:DAYLIGHT
TZOFFSETFROM:-0500
TZOFFSETTO:-0400
TZNAME:EDT
DTSTART:20240310T070000
END:DAYLIGHT
BEGIN:STANDARD
TZOFFSETFROM:-0400
TZOFFSETTO:-0500
TZNAME:EST
DTSTART:20241103T060000
END:STANDARD
BEGIN:DAYLIGHT
TZOFFSETFROM:-0500
TZOFFSETTO:-0400
TZNAME:EDT
DTSTART:20250309T070000
END:DAYLIGHT
BEGIN:STANDARD
TZOFFSETFROM:-0400
TZOFFSETTO:-0500
TZNAME:EST
DTSTART:20251102T060000
END:STANDARD
BEGIN:DAYLIGHT
TZOFFSETFROM:-0500
TZOFFSETTO:-0400
TZNAME:EDT
DTSTART:20260308T070000
END:DAYLIGHT
BEGIN:STANDARD
TZOFFSETFROM:-0400
TZOFFSETTO:-0500
TZNAME:EST
DTSTART:20261101T060000
END:STANDARD
BEGIN:DAYLIGHT
TZOFFSETFROM:-0500
TZOFFSETTO:-0400
TZNAME:EDT
DTSTART:20270314T070000
END:DAYLIGHT
BEGIN:STANDARD
TZOFFSETFROM:-0400
TZOFFSETTO:-0500
TZNAME:EST
DTSTART:20271107T060000
END:STANDARD
END:VTIMEZONE
BEGIN:VEVENT
DTSTART;TZID=America/Detroit:20260215T110000
DTEND;TZID=America/Detroit:20260215T140000
DTSTAMP:20260424T105743
CREATED:20260107T200217Z
LAST-MODIFIED:20260107T200225Z
UID:42735-1771153200-1771164000@michigancatholics.org
SUMMARY:Intercultural Festival
DESCRIPTION:Enjoy samples of ethnic foods and a variety of Catholic cultural displays!
URL:https://michigancatholics.org/event/intercultural-festival/
CATEGORIES:Español,Grad Students & Young Professionals,Homepage,Student
END:VEVENT
BEGIN:VEVENT
DTSTART;TZID=America/Detroit:20260213T190000
DTEND;TZID=America/Detroit:20260213T210000
DTSTAMP:20260424T105743
CREATED:20260203T171726Z
LAST-MODIFIED:20260203T171729Z
UID:42806-1771009200-1771016400@michigancatholics.org
SUMMARY:Bowling Night
DESCRIPTION:Station 300 in Saline.  \n\n\n\nCost: $18 \n\n\n\nSign up : ST. MARY’S BOWLING
URL:https://michigancatholics.org/event/bowling-night/
CATEGORIES:Student
END:VEVENT
BEGIN:VEVENT
DTSTART;TZID=America/Detroit:20260130T190000
DTEND;TZID=America/Detroit:20260130T210000
DTSTAMP:20260424T105743
CREATED:20260116T162726Z
LAST-MODIFIED:20260116T162732Z
UID:42765-1769799600-1769806800@michigancatholics.org
SUMMARY:Michigan Catholics Talent Show (undergrads)
DESCRIPTION:Talent Show for Undergrads. Any and every talent welcome!
URL:https://michigancatholics.org/event/michigan-catholics-talent-show-undergrads/
CATEGORIES:Homepage,Student
END:VEVENT
BEGIN:VEVENT
DTSTART;TZID=America/Detroit:20260109T190000
DTEND;TZID=America/Detroit:20260109T220000
DTSTAMP:20260424T105743
CREATED:20251211T192728Z
LAST-MODIFIED:20251211T192730Z
UID:42680-1767985200-1767996000@michigancatholics.org
SUMMARY:Undergrad Trivia Night
DESCRIPTION:
URL:https://michigancatholics.org/event/undergrad-trivia-night/
CATEGORIES:Homepage,Student
END:VEVENT
BEGIN:VEVENT
DTSTART;TZID=America/Detroit:20251212T190000
DTEND;TZID=America/Detroit:20251212T220000
DTSTAMP:20260424T105743
CREATED:20241119T155224Z
LAST-MODIFIED:20251212T142707Z
UID:40755-1765566000-1765576800@michigancatholics.org
SUMMARY:Our Lady of Guadalupe
DESCRIPTION:Bilingual Mass followed by a potluck dinner (bring a dish to share) \n\n\n\nHere is the link to watch the mass online : https://youtube.com/live/8szNjQ1DjuM?feature=share
URL:https://michigancatholics.org/event/our-lady-of-guadalupe-2/
CATEGORIES:Español,Grad Students & Young Professionals,Homepage,Student
END:VEVENT
BEGIN:VEVENT
DTSTART;TZID=America/Detroit:20251210T183000
DTEND;TZID=America/Detroit:20251210T203000
DTSTAMP:20260424T105743
CREATED:20251121T174136Z
LAST-MODIFIED:20251121T174150Z
UID:42630-1765391400-1765398600@michigancatholics.org
SUMMARY:Advent Prayer and Penance Service
DESCRIPTION:The evening will begin with an Advent Prayer Service at 6:30 p.m. with music and an Ignatian reflection.Individual reconciliation will follow at 7 p.m.Theme: Waiting with Mary in Joyful Hope
URL:https://michigancatholics.org/event/advent-prayer-and-penance-service-2/
CATEGORIES:Grad Students & Young Professionals,Homepage,Student
END:VEVENT
BEGIN:VEVENT
DTSTART;TZID=America/Detroit:20251208T180000
DTEND;TZID=America/Detroit:20251208T200000
DTSTAMP:20260424T105743
CREATED:20251106T145256Z
LAST-MODIFIED:20251106T145723Z
UID:42568-1765216800-1765224000@michigancatholics.org
SUMMARY:Final centennial Celebration
DESCRIPTION:Join us after Mass for a festive close to our wonderful Centennial Year—a joyful evening of fellowship\, refreshments\, and remembrance. Enjoy strolling beverages\, appetizers\, and desserts while exploring historical displays that celebrate 100 years of faith\, community\, and service.Come toast our shared journey and the generations who have shaped St. Mary’s story. All are welcome! \n\n\n\nPlease RSVP to help us plan appropriately for food and festivities by visiting Final Centennial Celebration – RSVP
URL:https://michigancatholics.org/event/final-centennial-celebration/
CATEGORIES:Español,Grad Students & Young Professionals,Homepage,Student
END:VEVENT
BEGIN:VEVENT
DTSTART;TZID=America/Detroit:20251206T100000
DTEND;TZID=America/Detroit:20251206T150000
DTSTAMP:20260424T105743
CREATED:20241119T154937Z
LAST-MODIFIED:20251121T174501Z
UID:40751-1765015200-1765033200@michigancatholics.org
SUMMARY:Feast Day of Service
DESCRIPTION:Feast day of Service is an opportunity to join for Mass\, lunch\, and an afternoon of service in honor of Mary\, our patron saint.
URL:https://michigancatholics.org/event/feast-day-of-service-2/
CATEGORIES:Grad Students & Young Professionals,Homepage,Student
END:VEVENT
BEGIN:VEVENT
DTSTART;TZID=America/Detroit:20251118T180000
DTEND;TZID=America/Detroit:20251118T210000
DTSTAMP:20260424T105743
CREATED:20251106T145149Z
LAST-MODIFIED:20251106T145434Z
UID:42566-1763488800-1763499600@michigancatholics.org
SUMMARY:FOCO : Sainthood on Fire
DESCRIPTION:Meditations on the Life of Igino GiordaniAn Evening with Dr. William Calvo-Quirós\, American Studies\, UMich. \n\n\n\nIgino Giordani\, known as “Foco\,” was a distinguished Catholic intellectual\, writer\, and politician who dedicated his life to faith\, scholarship\, and service. A World War I veteran\, he authored over 200 works on Church history and helped modernize the Vatican Library. After World War II\, he served as a congressman and directed Fides\, a major Catholic journal that shaped Italy’s postwar political landscape. Most notably\, Giordani co-founded a global Catholic lay movement that influenced Vatican II’s vision for lay participation in the Church. In his later years\, he championed ecumenism\, interfaith dialogue\, peace\, and unity. \n\n\n\nForty-five years after his passing\, we are invited to reflect on Giordani’s example and what it teaches us about living our Catholic faith in today’s world. Join Dr. William Calvo-Quirós\, Associate Professor and scholar of Catholic Studies\, for an evening of reflection on Giordani’s enduring legacy.All are welcome. Light refreshments provided. \n\n\n\nSign up :Meditations on the Life of Igino Giordani – RSVP
URL:https://michigancatholics.org/event/foco-sainthood-on-fire/
CATEGORIES:Grad Students & Young Professionals,Homepage,Student
END:VEVENT
BEGIN:VEVENT
DTSTART;TZID=America/Detroit:20251023T193000
DTEND;TZID=America/Detroit:20251023T210000
DTSTAMP:20260424T105743
CREATED:20251008T162806Z
LAST-MODIFIED:20251008T162809Z
UID:41778-1761247800-1761253200@michigancatholics.org
SUMMARY:The Role of Mary in the spriritual exercises
DESCRIPTION:Two 90 minutes class discussion about the role of Mry in the life of St Ignatius of Loyola and the Spiritual exercises. All are welcome!
URL:https://michigancatholics.org/event/the-role-of-mary-in-the-spriritual-exercises/
CATEGORIES:Grad Students & Young Professionals,Homepage,Student
END:VEVENT
BEGIN:VEVENT
DTSTART;TZID=America/Detroit:20251021T190000
DTEND;TZID=America/Detroit:20251021T210000
DTSTAMP:20260424T105743
CREATED:20251016T165701Z
LAST-MODIFIED:20251016T165704Z
UID:41814-1761073200-1761080400@michigancatholics.org
SUMMARY:Chaldean Mass and Reception
DESCRIPTION:
URL:https://michigancatholics.org/event/chaldean-mass-and-reception-2/
CATEGORIES:Grad Students & Young Professionals,Student
END:VEVENT
BEGIN:VEVENT
DTSTART;TZID=America/Detroit:20251009T190000
DTEND;TZID=America/Detroit:20251009T200000
DTSTAMP:20260424T105743
CREATED:20251001T191541Z
LAST-MODIFIED:20251001T191543Z
UID:41748-1760036400-1760040000@michigancatholics.org
SUMMARY:Restorative Justice Book Discussion and Circle
DESCRIPTION:Learn about the practice of restorative justice over 3 engaging sessions. (other sessions will be Oct 16 and 23)
URL:https://michigancatholics.org/event/restorative-justice-book-discussion-and-circle/
CATEGORIES:Grad Students & Young Professionals,Homepage,Student
END:VEVENT
BEGIN:VEVENT
DTSTART;TZID=America/Detroit:20251007T190000
DTEND;TZID=America/Detroit:20251007T204500
DTSTAMP:20260424T105743
CREATED:20240920T165847Z
LAST-MODIFIED:20251001T190527Z
UID:40355-1759863600-1759869900@michigancatholics.org
SUMMARY:Sacred Stories
DESCRIPTION:Sacred Stories is an annual event where the peer ministry interns share their faith testimonies! All are welcome to attend!
URL:https://michigancatholics.org/event/sacred-stories-2/
CATEGORIES:Grad Students & Young Professionals,Homepage,Student
END:VEVENT
BEGIN:VEVENT
DTSTART;TZID=America/Detroit:20251002T183000
DTEND;TZID=America/Detroit:20251002T200000
DTSTAMP:20260424T105743
CREATED:20250925T193334Z
LAST-MODIFIED:20250925T193336Z
UID:41729-1759429800-1759435200@michigancatholics.org
SUMMARY:"Mary and the Scriptures" Sister Barbara Reid
DESCRIPTION:Sister Barbara Reid\, OP\, a Grand Rapids Dominican\, will speak Thursday evening October 2 at 6:30pm in Donnelly Hall. She is the President of The Catholic Theological Union in Chicago and is the author/editor of many books and commentaries\, including The Wisdom Commentary series.  In 2021 she was chosen as a Madeleva Lecturer\, “At the Table of Holy Wisdom.”
URL:https://michigancatholics.org/event/mary-and-the-scriptures-sister-barbara-reid/
CATEGORIES:Grad Students & Young Professionals,Homepage,Student
END:VEVENT
BEGIN:VEVENT
DTSTART;TZID=America/Detroit:20251001T170000
DTEND;TZID=America/Detroit:20251001T190000
DTSTAMP:20260424T105743
CREATED:20250925T194016Z
LAST-MODIFIED:20250925T194227Z
UID:41736-1759338000-1759345200@michigancatholics.org
SUMMARY:Law Class on Laudato Si'
DESCRIPTION:All are welcome to join Professor Oday Salim and his environmental law class as they discuss Pope Francis’Encyclical Laudato Si: ON Care for Our Common Home
URL:https://michigancatholics.org/event/law-class-on-laudato-si/
CATEGORIES:Grad Students & Young Professionals,Homepage,Student
END:VEVENT
BEGIN:VEVENT
DTSTART;TZID=America/Detroit:20250921T110000
DTEND;TZID=America/Detroit:20250921T120000
DTSTAMP:20260424T105743
CREATED:20250814T191521Z
LAST-MODIFIED:20250814T191523Z
UID:41567-1758452400-1758456000@michigancatholics.org
SUMMARY:All Parish Outdoor Mass
DESCRIPTION:Alumni Field at Carol Hutchins Stadium
URL:https://michigancatholics.org/event/all-parish-outdoor-mass/
CATEGORIES:Español,Grad Students & Young Professionals,Homepage,Student
END:VEVENT
BEGIN:VEVENT
DTSTART;TZID=America/Detroit:20250914T100000
DTEND;TZID=America/Detroit:20250914T110000
DTSTAMP:20260424T105743
CREATED:20250908T211922Z
LAST-MODIFIED:20250908T211924Z
UID:41664-1757844000-1757847600@michigancatholics.org
SUMMARY:Coffee and donuts after 10 am mass for Parents weekend
DESCRIPTION:
URL:https://michigancatholics.org/event/coffee-and-donuts-after-10-am-mass-for-parents-weekend/
CATEGORIES:Homepage,Student
END:VEVENT
BEGIN:VEVENT
DTSTART;TZID=America/Detroit:20250907T180000
DTEND;TZID=America/Detroit:20250907T200000
DTSTAMP:20260424T105743
CREATED:20250814T192011Z
LAST-MODIFIED:20250814T192013Z
UID:41573-1757268000-1757275200@michigancatholics.org
SUMMARY:Fresh Gathering
DESCRIPTION:Join us at St Mary for a home cooked meal\, and learn how St Mary can become your new home away from home. Followed by Sunday student mass at 8 pm.
URL:https://michigancatholics.org/event/fresh-gathering-3/
CATEGORIES:Homepage,Student
END:VEVENT
BEGIN:VEVENT
DTSTART;TZID=America/Detroit:20250901T180000
DTEND;TZID=America/Detroit:20250901T200000
DTSTAMP:20260424T105743
CREATED:20250814T191810Z
LAST-MODIFIED:20250814T191811Z
UID:41571-1756749600-1756756800@michigancatholics.org
SUMMARY:Undergrad Students Welcome BBQ
DESCRIPTION:
URL:https://michigancatholics.org/event/undergrad-students-welcome-bbq/
CATEGORIES:Homepage,Student
END:VEVENT
BEGIN:VEVENT
DTSTART;TZID=America/Detroit:20250818T190000
DTEND;TZID=America/Detroit:20250818T203000
DTSTAMP:20260424T105743
CREATED:20250814T192245Z
LAST-MODIFIED:20250814T192246Z
UID:41575-1755543600-1755549000@michigancatholics.org
SUMMARY:Laudato si'
DESCRIPTION:May 24th marked the 10 year anniversary of Pope Francis’ encyclical \n\n\n\nLaudato Si’: On Care for Our Common Home \n\n\n\nAll are invited to read and discuss this important Encyclical over engaging sessions : \n\n\n\nMonday\, July 28 (chapters 1-2) \n\n\n\nMonday\, August 11 (chapters 3-4) \n\n\n\nMonday\, August 18 (chapters 5-6) \n\n\n\nSessions will be held in Donnelly Hall from 7-8:30pm.
URL:https://michigancatholics.org/event/laudato-si/
CATEGORIES:Grad Students & Young Professionals,Homepage,Student
END:VEVENT
BEGIN:VEVENT
DTSTART;TZID=America/Detroit:20250813T190000
DTEND;TZID=America/Detroit:20250813T210000
DTSTAMP:20260424T105743
CREATED:20250807T185911Z
LAST-MODIFIED:20250807T185912Z
UID:41548-1755111600-1755118800@michigancatholics.org
SUMMARY:SMSP Summer Olympics
DESCRIPTION:
URL:https://michigancatholics.org/event/smsp-summer-olympics/
CATEGORIES:Grad Students & Young Professionals,Homepage,Student
END:VEVENT
BEGIN:VEVENT
DTSTART;TZID=America/Detroit:20250731T180000
DTEND;TZID=America/Detroit:20250731T190000
DTSTAMP:20260424T105743
CREATED:20250610T144313Z
LAST-MODIFIED:20250610T144314Z
UID:41428-1753984800-1753988400@michigancatholics.org
SUMMARY:Feast of St. Ignatius Loyola Reception 
DESCRIPTION:
URL:https://michigancatholics.org/event/feast-of-st-ignatius-loyola-reception/
CATEGORIES:Español,Grad Students & Young Professionals,Homepage,Student
END:VEVENT
BEGIN:VEVENT
DTSTART;TZID=America/Detroit:20250727T180000
DTEND;TZID=America/Detroit:20250727T200000
DTSTAMP:20260424T105743
CREATED:20250602T172910Z
LAST-MODIFIED:20250602T172912Z
UID:41387-1753639200-1753646400@michigancatholics.org
SUMMARY:Summer Welcome BBQ
DESCRIPTION:Incoming\, current\, and former students and their families are welcome! Get to know Michigan Catholics before the academic year!
URL:https://michigancatholics.org/event/summer-welcome-bbq-2/
CATEGORIES:Grad Students & Young Professionals,Homepage,Student
END:VEVENT
BEGIN:VEVENT
DTSTART;TZID=America/Detroit:20250629T180000
DTEND;TZID=America/Detroit:20250629T200000
DTSTAMP:20260424T105743
CREATED:20250515T163728Z
LAST-MODIFIED:20250515T163730Z
UID:41353-1751220000-1751227200@michigancatholics.org
SUMMARY:Summer Welcome BBQ
DESCRIPTION:Incoming\, current and former students and families are welcome!
URL:https://michigancatholics.org/event/summer-welcome-bbq/
CATEGORIES:Grad Students & Young Professionals,Homepage,Student
END:VEVENT
BEGIN:VEVENT
DTSTART;TZID=America/Detroit:20250427T130000
DTEND;TZID=America/Detroit:20250427T160000
DTSTAMP:20260424T105743
CREATED:20250410T143350Z
LAST-MODIFIED:20250410T143351Z
UID:41240-1745758800-1745769600@michigancatholics.org
SUMMARY:Earth Day of Service
DESCRIPTION:Join a group of St Mary’s parishioners as we care for our common home and celebrate Earth Day. Students children and families are welcome! \n\n\n\n@ Matthaei Botanical Gardens \n\n\n\nContact Julia Novotney jnovotny@smspnewman.org
URL:https://michigancatholics.org/event/earth-day-of-service-2/
CATEGORIES:Español,Grad Students & Young Professionals,Homepage,Student
END:VEVENT
BEGIN:VEVENT
DTSTART;TZID=America/Detroit:20250418T140000
DTEND;TZID=America/Detroit:20250418T170000
DTSTAMP:20260424T105743
CREATED:20250410T143013Z
LAST-MODIFIED:20250410T143058Z
UID:41235-1744984800-1744995600@michigancatholics.org
SUMMARY:Good Friday Stations of the Cross Procession
DESCRIPTION:Walk and Pray the Stations of the Cross from St. Thomas to St. Mary Student Parish.
URL:https://michigancatholics.org/event/good-friday-stations-of-the-cross-procession/
CATEGORIES:Español,Grad Students & Young Professionals,Homepage,Student
END:VEVENT
BEGIN:VEVENT
DTSTART;TZID=America/Detroit:20250411T160000
DTEND;TZID=America/Detroit:20250411T173000
DTSTAMP:20260424T105743
CREATED:20250410T142344Z
LAST-MODIFIED:20250410T142350Z
UID:41231-1744387200-1744392600@michigancatholics.org
SUMMARY:Stations of the Cross through the Lens of Autism
DESCRIPTION:
URL:https://michigancatholics.org/event/stations-of-the-cross-through-the-lens-of-autism/
CATEGORIES:Grad Students & Young Professionals,Homepage,Student
END:VEVENT
BEGIN:VEVENT
DTSTART;TZID=America/Detroit:20250409T191500
DTEND;TZID=America/Detroit:20250409T200000
DTSTAMP:20260424T105743
CREATED:20250320T144615Z
LAST-MODIFIED:20250320T144617Z
UID:41189-1744226100-1744228800@michigancatholics.org
SUMMARY:OCIA Stations of the Cross
DESCRIPTION:
URL:https://michigancatholics.org/event/ocia-stations-of-the-cross/
CATEGORIES:Grad Students & Young Professionals,Homepage,Student
END:VEVENT
BEGIN:VEVENT
DTSTART;TZID=America/Detroit:20250404T180000
DTEND;TZID=America/Detroit:20250404T190000
DTSTAMP:20260424T105743
CREATED:20250320T144455Z
LAST-MODIFIED:20250320T144500Z
UID:41187-1743789600-1743793200@michigancatholics.org
SUMMARY:Stations of the Cross led by Grad/YP group
DESCRIPTION:
URL:https://michigancatholics.org/event/stations-of-the-cross-led-by-grad-yp-group/
CATEGORIES:Grad Students & Young Professionals,Homepage,Student
END:VEVENT
BEGIN:VEVENT
DTSTART;TZID=America/Detroit:20250403T191500
DTEND;TZID=America/Detroit:20250403T201500
DTSTAMP:20260424T105743
CREATED:20250228T194917Z
LAST-MODIFIED:20250228T194919Z
UID:41125-1743707700-1743711300@michigancatholics.org
SUMMARY:Lenten Prayer and Penance Service
DESCRIPTION:
URL:https://michigancatholics.org/event/lenten-prayer-and-penance-service/
CATEGORIES:Grad Students & Young Professionals,Homepage,Student
END:VEVENT
END:VCALENDAR