BEGIN:VCALENDAR
VERSION:2.0
PRODID:-//St. Mary Student Parish - Ann Arbor, Michigan - ECPv6.15.20//NONSGML v1.0//EN
CALSCALE:GREGORIAN
METHOD:PUBLISH
X-WR-CALNAME:St. Mary Student Parish - Ann Arbor, Michigan
X-ORIGINAL-URL:https://michigancatholics.org
X-WR-CALDESC:Events for St. Mary Student Parish - Ann Arbor, Michigan
REFRESH-INTERVAL;VALUE=DURATION:PT1H
X-Robots-Tag:noindex
X-PUBLISHED-TTL:PT1H
BEGIN:VTIMEZONE
TZID:America/Detroit
BEGIN:DAYLIGHT
TZOFFSETFROM:-0500
TZOFFSETTO:-0400
TZNAME:EDT
DTSTART:20220313T070000
END:DAYLIGHT
BEGIN:STANDARD
TZOFFSETFROM:-0400
TZOFFSETTO:-0500
TZNAME:EST
DTSTART:20221106T060000
END:STANDARD
BEGIN:DAYLIGHT
TZOFFSETFROM:-0500
TZOFFSETTO:-0400
TZNAME:EDT
DTSTART:20230312T070000
END:DAYLIGHT
BEGIN:STANDARD
TZOFFSETFROM:-0400
TZOFFSETTO:-0500
TZNAME:EST
DTSTART:20231105T060000
END:STANDARD
BEGIN:DAYLIGHT
TZOFFSETFROM:-0500
TZOFFSETTO:-0400
TZNAME:EDT
DTSTART:20240310T070000
END:DAYLIGHT
BEGIN:STANDARD
TZOFFSETFROM:-0400
TZOFFSETTO:-0500
TZNAME:EST
DTSTART:20241103T060000
END:STANDARD
END:VTIMEZONE
BEGIN:VEVENT
DTSTART;TZID=America/Detroit:20230726T174500
DTEND;TZID=America/Detroit:20230726T190000
DTSTAMP:20260424T181756
CREATED:20230721T190029Z
LAST-MODIFIED:20230721T190030Z
UID:38544-1690393500-1690398000@michigancatholics.org
SUMMARY:Eucharistic Adoration
DESCRIPTION:
URL:https://michigancatholics.org/event/eucharistic-adoration-2/
CATEGORIES:Español,Grad Students & Young Professionals,Homepage,Student
END:VEVENT
BEGIN:VEVENT
DTSTART;TZID=America/Detroit:20230724T183000
DTEND;TZID=America/Detroit:20230724T210000
DTSTAMP:20260424T181756
CREATED:20230628T161536Z
LAST-MODIFIED:20230628T161537Z
UID:38470-1690223400-1690232400@michigancatholics.org
SUMMARY:Summer Film Festival
DESCRIPTION:The second movie of our Summer Film series will be shown on July 24. Join us to watch “Wings of Desire”.
URL:https://michigancatholics.org/event/summer-film-festival/
CATEGORIES:Grad Students & Young Professionals,Homepage,Student
END:VEVENT
BEGIN:VEVENT
DTSTART;TZID=America/Detroit:20230716T150000
DTEND;TZID=America/Detroit:20230716T163000
DTSTAMP:20260424T181756
CREATED:20230616T164207Z
LAST-MODIFIED:20230616T164208Z
UID:38421-1689519600-1689525000@michigancatholics.org
SUMMARY:HOW FAITH COMMUNITIES CAN ADDRESS THE CLIMATE CRISIS:
DESCRIPTION:A YOUNG CATHOLIC SCIENTIST SHARES HER VISION \n\n\n\n\n\nA special presentation by Molly Burhans \n\n\n\nMolly Burhans is an award-winning Catholic environmentalist\, cartographer\, and social entrepreneur. She is the founder of GoodLands\, an organization whose mission is to mobilize the Catholic Church to use its land holdings for environmental and humanitarian good. Burhans was the chief cartographer for the first unified global map of the Church\, which premièred at the Vatican in 2016. She is one of Encyclopedia Britannica’s 2022 “20 Under 40\,” a winner of the Sierra Club’s EarthCare Award\, a U.N. Young Champion of the Earth\, a National Geographic Emerging Explorer\, and an Ashoka Fellow. Molly is a visiting professor at Canisius College and adjunct professor of Urban Design at Columbia University Graduate School of Architecture\, Planning and Preservation.
URL:https://michigancatholics.org/event/how-faith-communities-can-address-the-climate-crisis/
CATEGORIES:Grad Students & Young Professionals,Homepage,Student
END:VEVENT
BEGIN:VEVENT
DTSTART;TZID=America/Detroit:20230716T100000
DTEND;TZID=America/Detroit:20230716T160000
DTSTAMP:20260424T181756
CREATED:20230509T135628Z
LAST-MODIFIED:20230509T141606Z
UID:38244-1689501600-1689523200@michigancatholics.org
SUMMARY:Blood Drive
DESCRIPTION:Blood Drive in Newman Hall.
URL:https://michigancatholics.org/event/blood-drive/
CATEGORIES:Español,Grad Students & Young Professionals,Homepage,Student
END:VEVENT
BEGIN:VEVENT
DTSTART;TZID=America/Detroit:20230625T180000
DTEND;TZID=America/Detroit:20230625T190000
DTSTAMP:20260424T181756
CREATED:20230613T161859Z
LAST-MODIFIED:20230613T161901Z
UID:38406-1687716000-1687719600@michigancatholics.org
SUMMARY:Undergrad dinner
DESCRIPTION:
URL:https://michigancatholics.org/event/undergrad-dinner/
LOCATION:Newman Hall
CATEGORIES:Homepage,Student
END:VEVENT
BEGIN:VEVENT
DTSTART;TZID=America/Detroit:20230625T110000
DTEND;TZID=America/Detroit:20230625T120000
DTSTAMP:20260424T181756
CREATED:20230601T175122Z
LAST-MODIFIED:20230601T175140Z
UID:38350-1687690800-1687694400@michigancatholics.org
SUMMARY:Farewell Reception Fr Jim
DESCRIPTION:Join us to say goodbye to Fr. Jim after 10 am and 2 pm mass.
URL:https://michigancatholics.org/event/farewell-reception-fr-jim/
LOCATION:Courtyard
CATEGORIES:Español,Grad Students & Young Professionals,Homepage,Student
END:VEVENT
BEGIN:VEVENT
DTSTART;TZID=America/Detroit:20230619T183000
DTEND;TZID=America/Detroit:20230619T210000
DTSTAMP:20260424T181756
CREATED:20230526T142443Z
LAST-MODIFIED:20230526T142444Z
UID:38333-1687199400-1687208400@michigancatholics.org
SUMMARY:Close Encounters of the Third Kind
DESCRIPTION:This movie is part of the Summer film Series\, it explores the space of how we are to become close as humans\, the children of God\, as one faces of how God calls us to love.
URL:https://michigancatholics.org/event/close-encounters-of-the-third-kind/
CATEGORIES:Español,Grad Students & Young Professionals,Homepage,Student
END:VEVENT
BEGIN:VEVENT
DTSTART;TZID=America/Detroit:20230521T110000
DTEND;TZID=America/Detroit:20230521T180000
DTSTAMP:20260424T181756
CREATED:20230505T142100Z
LAST-MODIFIED:20230505T143406Z
UID:38229-1684666800-1684692000@michigancatholics.org
SUMMARY:Fr Joe Send Off Reception
DESCRIPTION:After 10:00 AM and 5:00 PM mass\, we will have a farewell celebration for Father Joe.  \n\n\n\nAll are welcome!
URL:https://michigancatholics.org/event/fr-joe-send-off-reception/
CATEGORIES:Español,Grad Students & Young Professionals,Homepage,Student
END:VEVENT
BEGIN:VEVENT
DTSTART;TZID=America/Detroit:20230428T160000
DTEND;TZID=America/Detroit:20230428T180000
DTSTAMP:20260424T181756
CREATED:20230426T142902Z
LAST-MODIFIED:20230426T144324Z
UID:38089-1682697600-1682704800@michigancatholics.org
SUMMARY:GRADUATION MASS & RECEPTION
DESCRIPTION:Graduating students along with their families and friends are invited to give thanks to God for their successful completion of their time here at Michigan and to ask for God’s blessing on the road ahead! Following Mass\, there will be a reception.Please click here to RSVP!
URL:https://michigancatholics.org/event/graduation-mass-reception/
CATEGORIES:Grad Students & Young Professionals,Homepage,Student
END:VEVENT
BEGIN:VEVENT
DTSTART;TZID=America/Detroit:20230421T080000
DTEND;TZID=America/Detroit:20230422T200000
DTSTAMP:20260424T181756
CREATED:20230421T205538Z
LAST-MODIFIED:20230421T205719Z
UID:38082-1682064000-1682193600@michigancatholics.org
SUMMARY:MEET AND GREET FR KYLE
DESCRIPTION:oin us in Donnelly Hall\, after mass this weekend\, with our incoming pastor\, Fr.Kyle. \n\n\n\nWe’ll have coffee ( from Hawaii !) and sweets\, plus a chance to connect with other parish friends !
URL:https://michigancatholics.org/event/meet-and-greet-fr-kyle/
CATEGORIES:Español,Grad Students & Young Professionals,Homepage,Student
END:VEVENT
BEGIN:VEVENT
DTSTART;TZID=America/Detroit:20230417T183000
DTEND;TZID=America/Detroit:20230417T203000
DTSTAMP:20260424T181756
CREATED:20230412T000026Z
LAST-MODIFIED:20230414T190801Z
UID:37991-1681756200-1681763400@michigancatholics.org
SUMMARY:Cross & Sword
DESCRIPTION:All are welcome to join us for our April Spiritual Directions event.  This month we welcome Prof. Ambeth R. Ocampo\, who will offer a talk titled “Cross and Sword: Colonialism and Evangelization in the Philipppines.”  Join us to hear Prof. Ocampo speak on the complicated role of the church in the conquest of the Philippines.  Enjoy some snacks and time to socialize or network with others.   \n\n\n\nThis is event\, though sponsored by the Grad/YP Group is open to all.
URL:https://michigancatholics.org/event/cross-sword/
CATEGORIES:Grad Students & Young Professionals,Homepage,Student
ATTACH;FMTTYPE=image/jpeg:https://michigancatholics.org/wp-content/uploads/2023/04/Unknown-2.jpeg
END:VEVENT
BEGIN:VEVENT
DTSTART;TZID=America/Detroit:20230404T190000
DTEND;TZID=America/Detroit:20230404T203000
DTSTAMP:20260424T181756
CREATED:20230403T150545Z
LAST-MODIFIED:20230403T150546Z
UID:37941-1680634800-1680640200@michigancatholics.org
SUMMARY:Stations of the Cross by Women and Men's Connect Group
DESCRIPTION:
URL:https://michigancatholics.org/event/stations-of-the-cross-by-women-and-mens-connect-group/
CATEGORIES:Homepage,Student
END:VEVENT
END:VCALENDAR